BEGIN:VCALENDAR
VERSION:2.0
PRODID:-//CSV - ECPv6.15.20//NONSGML v1.0//EN
CALSCALE:GREGORIAN
METHOD:PUBLISH
X-WR-CALNAME:CSV
X-ORIGINAL-URL:https://csv.verona.it
X-WR-CALDESC:Eventi per CSV
REFRESH-INTERVAL;VALUE=DURATION:PT1H
X-Robots-Tag:noindex
X-PUBLISHED-TTL:PT1H
BEGIN:VTIMEZONE
TZID:Europe/Rome
BEGIN:DAYLIGHT
TZOFFSETFROM:+0100
TZOFFSETTO:+0200
TZNAME:CEST
DTSTART:20180325T010000
END:DAYLIGHT
BEGIN:STANDARD
TZOFFSETFROM:+0200
TZOFFSETTO:+0100
TZNAME:CET
DTSTART:20181028T010000
END:STANDARD
BEGIN:DAYLIGHT
TZOFFSETFROM:+0100
TZOFFSETTO:+0200
TZNAME:CEST
DTSTART:20190331T010000
END:DAYLIGHT
BEGIN:STANDARD
TZOFFSETFROM:+0200
TZOFFSETTO:+0100
TZNAME:CET
DTSTART:20191027T010000
END:STANDARD
BEGIN:DAYLIGHT
TZOFFSETFROM:+0100
TZOFFSETTO:+0200
TZNAME:CEST
DTSTART:20200329T010000
END:DAYLIGHT
BEGIN:STANDARD
TZOFFSETFROM:+0200
TZOFFSETTO:+0100
TZNAME:CET
DTSTART:20201025T010000
END:STANDARD
END:VTIMEZONE
BEGIN:VEVENT
DTSTART;TZID=Europe/Rome:20190926T180000
DTEND;TZID=Europe/Rome:20190926T203000
DTSTAMP:20260426T030544
CREATED:20190910T075311Z
LAST-MODIFIED:20190910T083408Z
UID:7840-1569520800-1569529800@csv.verona.it
SUMMARY:FORMAZIONE – Vita associativa: organi e libri sociali
DESCRIPTION:Obiettivi \nIl corso intende presentare una panoramica dei principali oneri gestionali della così detta “vita associativa”. Si esamineranno i principali adempimenti gestionali associativi\, quali attività si possano o meno svolgere e in che forme. La serata avrà un taglio molto pratico\, saranno commentate e fornite check list dei principali oneri gestionali e amministrativi.\nGli obiettivi dell’incontro sono:\nillustrare i vari aspetti della gestione della vita associativa;\nindividuare i principali adempimenti in relazione a libri sociali e oneri gestionali;\nesaminare quali siano i ruoli\, le figure\, gli incarichi e le posizioni all’interno della governance dell’associazione;\ndescrivere il funzionamento degli organi sociali all’interno dell’associazione;\nillustrare le corrette modalità di redazione e tenuta documenti amministrativi e libri verbali;\nillustrare aspetti gestionali dell’associazione alla luce del Codice del Terzo Settore (D.lgs 117/17). \n\nContenuti  \nSi affronteranno i seguenti argomenti specifici: \n\norgani obbligatori e facoltativi;\nsoci e volontari;\nregolamenti gestionali;\nlibri sociali;\nverbali.\n\nL’incontro fornisce anche una rassegna dei principali aspetti gestionali del Codice del Terzo Settore (D.lgs 117/17) per fornire strumenti aggiornati ai partecipanti. \n\nNel primo semestre del 2020 proporremo un altro incontro dedicato alla “vita associativa”\, che analizzerà contenuti non trattati in questo incontro: eventi\, privacy e sicurezza\, rapporti con gli enti pubblici. \n\nDocente \nElena D’Alessandro\, giurista esperta del diritto del Terzo settore\, impegnata attivamente dal 2002 in campi sociali e culturali; responsabile Ufficio Consulenze CSV di Verona. \n\nMetodologia didattica \nLezione frontale molto pratica\, aperta agli interventi e calibrata sulle esigenze dei partecipanti. \n\nDate e orari \nGiovedì 26 settembre 2019 ǀ 18.00 – 20.30 \n\nSede \nCSV di Verona – Via Cantarane 24\, Verona \n\nDestinatari \n25 volontari – Tipologia: è consigliabile che il corso sia frequentato dalla figura interna che segue gli aspetti gestionali dell’associazione\, segretario\, presidente\, amministrativi\, volontari. \n\nQuota di partecipazione \nODV 10 Euro; altre forme associative e singoli cittadini 20 Euro.\nIl pagamento della quota può essere effettuato: \n\ntramite bonifico bancario a FEDERAZIONE DEL VOLONTARIATO DI VERONA – BANCOBPMSPA VERONA (ITALY)\, BIC BAPPIT21004\, IBAN IT76O0503411704000000051276\, indicando come causale: nome + cognome+ titolo corso abbreviato;\nla sera del corso (arrivando con 10 minuti d’anticipo) con bancomat\, o altre carte\, tramite POS presente nel nostro ufficio.\n\n\nRegolamento per accedere alla formazione \nhttps://csv.verona.it/come-iscriversi-ai-corsi/ \n  \nIscrizione obbligatoria \nEffettuando il login \n  \n  \n 
URL:https://csv.verona.it/event/formazione-vita-associativa-organi-libri-sociali/
END:VEVENT
END:VCALENDAR