BEGIN:VCALENDAR
VERSION:2.0
PRODID:-//CSV - ECPv6.15.20//NONSGML v1.0//EN
CALSCALE:GREGORIAN
METHOD:PUBLISH
X-ORIGINAL-URL:https://csv.verona.it
X-WR-CALDESC:Eventi per CSV
REFRESH-INTERVAL;VALUE=DURATION:PT1H
X-Robots-Tag:noindex
X-PUBLISHED-TTL:PT1H
BEGIN:VTIMEZONE
TZID:Europe/Rome
BEGIN:DAYLIGHT
TZOFFSETFROM:+0100
TZOFFSETTO:+0200
TZNAME:CEST
DTSTART:20180325T010000
END:DAYLIGHT
BEGIN:STANDARD
TZOFFSETFROM:+0200
TZOFFSETTO:+0100
TZNAME:CET
DTSTART:20181028T010000
END:STANDARD
BEGIN:DAYLIGHT
TZOFFSETFROM:+0100
TZOFFSETTO:+0200
TZNAME:CEST
DTSTART:20190331T010000
END:DAYLIGHT
BEGIN:STANDARD
TZOFFSETFROM:+0200
TZOFFSETTO:+0100
TZNAME:CET
DTSTART:20191027T010000
END:STANDARD
BEGIN:DAYLIGHT
TZOFFSETFROM:+0100
TZOFFSETTO:+0200
TZNAME:CEST
DTSTART:20200329T010000
END:DAYLIGHT
BEGIN:STANDARD
TZOFFSETFROM:+0200
TZOFFSETTO:+0100
TZNAME:CET
DTSTART:20201025T010000
END:STANDARD
END:VTIMEZONE
BEGIN:VEVENT
DTSTART;TZID=Europe/Rome:20190923T180000
DTEND;TZID=Europe/Rome:20190923T200000
DTSTAMP:20260426T030644
CREATED:20190905T141220Z
LAST-MODIFIED:20190905T141220Z
UID:7818-1569261600-1569268800@csv.verona.it
SUMMARY:INCONTRO - Servizio Civile Universale\, bando 2019
DESCRIPTION:Il Dipartimento della Gioventù e del Servizio Civile ha pubblicato il nuovo bando volontari di Servizio Civile Universale. \nTra i progetti attivati a Verona e provincia\, 7 sono della Federazione del Volontariato di Verona\, con il coinvolgimento di 39 organizzazioni non profit. Offrono la possibilità a 66 giovani di sperimentarsi per un anno\, per circa 25 ore alla settimana\, in diversi ambiti del sociale con progetti dedicati al patrimonio ambientale e culturale\, in attività educative con minori\, nell’affiancamento e assistenza a persone con disabilità\, nel soccorso in ambulanza\, fino ad arrivare alla comunicazione web. \nPer saperne di più è possibile partecipare a un aperitivo informativo\, lunedì 23 settembre alle 18.00\, nella sede del CSV di Verona (via Cantarane\, 24)\, che permetterà di avere tutte le informazioni sui progetti\, le sedi di attuazione\, ma soprattutto di avere un confronto con quanti hanno terminato di recente la propria esperienza. \nInformazioni sul bando e le modalità per partecipare sono disponibili nella pagina dedicata.
URL:https://csv.verona.it/event/incontro-servizio-civile-universale-bando-2019/
END:VEVENT
END:VCALENDAR