BEGIN:VCALENDAR
VERSION:2.0
PRODID:-//CSV - ECPv6.15.20//NONSGML v1.0//EN
CALSCALE:GREGORIAN
METHOD:PUBLISH
X-ORIGINAL-URL:https://csv.verona.it
X-WR-CALDESC:Eventi per CSV
REFRESH-INTERVAL;VALUE=DURATION:PT1H
X-Robots-Tag:noindex
X-PUBLISHED-TTL:PT1H
BEGIN:VTIMEZONE
TZID:Europe/Rome
BEGIN:DAYLIGHT
TZOFFSETFROM:+0100
TZOFFSETTO:+0200
TZNAME:CEST
DTSTART:20180325T010000
END:DAYLIGHT
BEGIN:STANDARD
TZOFFSETFROM:+0200
TZOFFSETTO:+0100
TZNAME:CET
DTSTART:20181028T010000
END:STANDARD
BEGIN:DAYLIGHT
TZOFFSETFROM:+0100
TZOFFSETTO:+0200
TZNAME:CEST
DTSTART:20190331T010000
END:DAYLIGHT
BEGIN:STANDARD
TZOFFSETFROM:+0200
TZOFFSETTO:+0100
TZNAME:CET
DTSTART:20191027T010000
END:STANDARD
BEGIN:DAYLIGHT
TZOFFSETFROM:+0100
TZOFFSETTO:+0200
TZNAME:CEST
DTSTART:20200329T010000
END:DAYLIGHT
BEGIN:STANDARD
TZOFFSETFROM:+0200
TZOFFSETTO:+0100
TZNAME:CET
DTSTART:20201025T010000
END:STANDARD
END:VTIMEZONE
BEGIN:VEVENT
DTSTART;TZID=Europe/Rome:20190905T180000
DTEND;TZID=Europe/Rome:20190905T190000
DTSTAMP:20260426T030550
CREATED:20190903T094649Z
LAST-MODIFIED:20190903T094649Z
UID:7791-1567706400-1567710000@csv.verona.it
SUMMARY:INCONTRO – Sostegno eventi\, quarta edizione.
DESCRIPTION:Il Centro di Servizio per il Volontariato (CSV) di Verona emette “Sostegno eventi associativi di natura pubblica – di singole associazioni o di rete\, per la promozione e valorizzazione del volontariato”\, sono messi a disposizione 30.000 Euro. \nLe organizzazioni di volontariato (ODV) e le associazioni di promozione sociale (APS) aventi sede legale in provincia di Verona\, iscritte nei Registri regionali come da normativa regionale di riferimento\, possono partecipare fino a domenica 6 ottobre 2019. \nSe l’associazione ha in programma un evento in cui presentarsi al pubblico per raccontare chi è\, cosa fa\, come lo fa\, puoi chiedere al CSV un sostegno su una delle voci di spesa dell’evento. L’evento dovrà: \n\nessere aperto al pubblico;\nsensibilizzare la cittadinanza al volontariato e attrarre nuovi volontari;\nsvolgersi tra il 1 gennaio e il 31 agosto 2020.\n\n\nSi sostengono due tipologie di eventi: \n\neventi proposti da singola associazione: realizzazione di un evento associativo che valorizzi il volontariato\, importo massimo di 1.500\,00 Euro;\neventi di rete: realizzazione di un evento territoriale/intercomunale organizzato da una rete di enti che valorizzi il volontariato\, importo massimo di 3.000\,00 Euro.\n\nGiovedì 5 settembre 2019 dalle 18.00 alle 19.00 il Centro di Servizio per il Volontariato (CSV) di Verona organizza nella propria sede (via Cantarane 24) l’incontro di presentazione dell’iniziativa\, per dare modo di comprendere le modalità a tutte le organizzazioni di volontariato e le associazioni di promozione sociale interessate.\nSi suggerisce di prendere visione di tutte le informazioni disponibili e della modulistica nella pagina dedicata\, in modo da avere già un’idea di base della proposta e della formulazione di ogni eventuale dubbio. \n  \nPer informazioni:\nCSV di Verona\nUfficio Progettazione Sociale\,  Tel. 045 8011978 interno 7 – a.ferraro@csv.verona.it
URL:https://csv.verona.it/event/incontro-sostegno-eventi-quarta-edizione/
END:VEVENT
END:VCALENDAR